BEGIN:VCALENDAR
VERSION:2.0
PRODID:-//IMSALUD - ECPv6.15.20//NONSGML v1.0//EN
CALSCALE:GREGORIAN
METHOD:PUBLISH
X-WR-CALNAME:IMSALUD
X-ORIGINAL-URL:https://www.imsalud.gov.co/web
X-WR-CALDESC:Eventos para IMSALUD
REFRESH-INTERVAL;VALUE=DURATION:PT1H
X-Robots-Tag:noindex
X-PUBLISHED-TTL:PT1H
BEGIN:VTIMEZONE
TZID:America/Bogota
BEGIN:STANDARD
TZOFFSETFROM:-0500
TZOFFSETTO:-0500
TZNAME:-05
DTSTART:20250101T000000
END:STANDARD
END:VTIMEZONE
BEGIN:VEVENT
DTSTART;TZID=America/Bogota:20260206T080000
DTEND;TZID=America/Bogota:20260206T120000
DTSTAMP:20260423T154228
CREATED:20251226T151539Z
LAST-MODIFIED:20251226T151539Z
UID:114107-1770364800-1770379200@www.imsalud.gov.co
SUMMARY:EPM Control Interno
DESCRIPTION:EPM Control Interno
URL:https://www.imsalud.gov.co/web/event/epm-control-interno-2/
LOCATION:Oficina de Control Interno\, Sede Administrativa\, Cúcuta\, NS\, 540001\, Colombia
CATEGORIES:Equipo primario de mejoramiento
ORGANIZER;CN="Alvaro Becerra":MAILTO:info@imsalud.gov.co
END:VEVENT
BEGIN:VEVENT
DTSTART;TZID=America/Bogota:20260206T080000
DTEND;TZID=America/Bogota:20260206T160000
DTSTAMP:20260423T154228
CREATED:20260128T131017Z
LAST-MODIFIED:20260128T131017Z
UID:114842-1770364800-1770393600@www.imsalud.gov.co
SUMMARY:EPM UBA Policlinico
DESCRIPTION:EPM UBA Policlinico
URL:https://www.imsalud.gov.co/web/event/epm-uba-policlinico-2/
LOCATION:Consultorio de PYP\, NdeS\, 540001\, Colombia
CATEGORIES:Equipo primario de mejoramiento
ORGANIZER;CN="David Fajardo Granados":MAILTO:ubpoliclinico@imsalud.gov.co
END:VEVENT
BEGIN:VEVENT
DTSTART;TZID=America/Bogota:20260207T070000
DTEND;TZID=America/Bogota:20260207T080000
DTSTAMP:20260423T154228
CREATED:20260128T130636Z
LAST-MODIFIED:20260128T130636Z
UID:114613-1770447600-1770451200@www.imsalud.gov.co
SUMMARY:EPM UBA Comuneros
DESCRIPTION:EPM UBA Comuneros
URL:https://www.imsalud.gov.co/web/event/epm-uba-comuneros-2/
LOCATION:Consultorio de PYP\, NdeS\, 540001\, Colombia
CATEGORIES:Equipo primario de mejoramiento
ORGANIZER;CN="Elida Maritza Soledad Hernandez":MAILTO:ubcomuneros@imsalud.gov.co
END:VEVENT
BEGIN:VEVENT
DTSTART;TZID=America/Bogota:20260207T070000
DTEND;TZID=America/Bogota:20260207T080000
DTSTAMP:20260423T154228
CREATED:20260128T130653Z
LAST-MODIFIED:20260128T130653Z
UID:114625-1770447600-1770451200@www.imsalud.gov.co
SUMMARY:EPM IPS Aeropuerto
DESCRIPTION:EPM IPS Aeropuerto
URL:https://www.imsalud.gov.co/web/event/epm-ips-aeropuerto-2/
LOCATION:Consultorio de PYP\, NdeS\, 540001\, Colombia
CATEGORIES:Equipo primario de mejoramiento
ORGANIZER;CN="Elida Maritza Soledad Hernandez":MAILTO:ubcomuneros@imsalud.gov.co
END:VEVENT
BEGIN:VEVENT
DTSTART;TZID=America/Bogota:20260207T070000
DTEND;TZID=America/Bogota:20260207T080000
DTSTAMP:20260423T154228
CREATED:20260128T130717Z
LAST-MODIFIED:20260128T130717Z
UID:114638-1770447600-1770451200@www.imsalud.gov.co
SUMMARY:EPM IPS La Ermita
DESCRIPTION:EPM IPS La Ermita
URL:https://www.imsalud.gov.co/web/event/epm-ips-la-ermita-2/
LOCATION:Consultorio de PYP\, NdeS\, 540001\, Colombia
CATEGORIES:Equipo primario de mejoramiento
ORGANIZER;CN="Elida Maritza Soledad Hernandez":MAILTO:ubcomuneros@imsalud.gov.co
END:VEVENT
BEGIN:VEVENT
DTSTART;TZID=America/Bogota:20260207T070000
DTEND;TZID=America/Bogota:20260207T080000
DTSTAMP:20260423T154228
CREATED:20260128T130728Z
LAST-MODIFIED:20260128T130728Z
UID:114650-1770447600-1770451200@www.imsalud.gov.co
SUMMARY:EPM IPS Claret
DESCRIPTION:EPM IPS Claret
URL:https://www.imsalud.gov.co/web/event/epm-ips-claret-2/
LOCATION:Consultorio de PYP\, NdeS\, 540001\, Colombia
CATEGORIES:Equipo primario de mejoramiento
ORGANIZER;CN="Elida Maritza Soledad Hernandez":MAILTO:ubcomuneros@imsalud.gov.co
END:VEVENT
BEGIN:VEVENT
DTSTART;TZID=America/Bogota:20260207T070000
DTEND;TZID=America/Bogota:20260207T080000
DTSTAMP:20260423T154228
CREATED:20260128T130745Z
LAST-MODIFIED:20260128T130745Z
UID:114662-1770447600-1770451200@www.imsalud.gov.co
SUMMARY:EPM IPS Toledo Plata
DESCRIPTION:EPM IPS Toledo Plata
URL:https://www.imsalud.gov.co/web/event/epm-ips-toledo-plata-2/
LOCATION:Consultorio de PYP\, NdeS\, 540001\, Colombia
CATEGORIES:Equipo primario de mejoramiento
ORGANIZER;CN="Elida Maritza Soledad Hernandez":MAILTO:ubcomuneros@imsalud.gov.co
END:VEVENT
BEGIN:VEVENT
DTSTART;TZID=America/Bogota:20260207T070000
DTEND;TZID=America/Bogota:20260207T080000
DTSTAMP:20260423T154228
CREATED:20260128T130801Z
LAST-MODIFIED:20260128T130801Z
UID:114674-1770447600-1770451200@www.imsalud.gov.co
SUMMARY:EPM IPS Sevilla
DESCRIPTION:EPM IPS Sevilla
URL:https://www.imsalud.gov.co/web/event/epm-ips-sevilla-2/
LOCATION:Consultorio de PYP\, NdeS\, 540001\, Colombia
CATEGORIES:Equipo primario de mejoramiento
ORGANIZER;CN="Elida Maritza Soledad Hernandez":MAILTO:ubcomuneros@imsalud.gov.co
END:VEVENT
BEGIN:VEVENT
DTSTART;TZID=America/Bogota:20260207T070000
DTEND;TZID=America/Bogota:20260207T080000
DTSTAMP:20260423T154228
CREATED:20260128T130814Z
LAST-MODIFIED:20260128T130814Z
UID:114686-1770447600-1770451200@www.imsalud.gov.co
SUMMARY:EPM IPS Ospina Perez
DESCRIPTION:EPM IPS Ospina Perez
URL:https://www.imsalud.gov.co/web/event/epm-ips-ospina-perez-2/
LOCATION:Consultorio de PYP\, NdeS\, 540001\, Colombia
CATEGORIES:Equipo primario de mejoramiento
ORGANIZER;CN="Elida Maritza Soledad Hernandez":MAILTO:ubcomuneros@imsalud.gov.co
END:VEVENT
BEGIN:VEVENT
DTSTART;TZID=America/Bogota:20260210T100000
DTEND;TZID=America/Bogota:20260210T113000
DTSTAMP:20260423T154228
CREATED:20251216T205007Z
LAST-MODIFIED:20251216T205007Z
UID:113820-1770717600-1770723000@www.imsalud.gov.co
SUMMARY:Comité de Conciliaciones
DESCRIPTION:Comité mes de Febrero
URL:https://www.imsalud.gov.co/web/event/comite-de-conciliaciones-8/
LOCATION:Gerencia\, Sede Administrativa\, Cúcuta\, NS\, 540001\, Colombia
CATEGORIES:Comités
ORGANIZER;CN="Javier Orlando Prieto Pe%C3%B1a":MAILTO:info@imsalud.gov.co
END:VEVENT
BEGIN:VEVENT
DTSTART;TZID=America/Bogota:20260210T130000
DTEND;TZID=America/Bogota:20260210T140000
DTSTAMP:20260423T154228
CREATED:20260128T130427Z
LAST-MODIFIED:20260128T130427Z
UID:114528-1770728400-1770732000@www.imsalud.gov.co
SUMMARY:EPM UBA Agua Clara
DESCRIPTION:EPM UBA Agua Clara
URL:https://www.imsalud.gov.co/web/event/epm-uba-agua-clara-2/
LOCATION:NS
CATEGORIES:Equipo primario de mejoramiento
ORGANIZER;CN="Yonn Alexander Alvarez Bayona":MAILTO:ubaguaclara@imsalud.gov.co
END:VEVENT
BEGIN:VEVENT
DTSTART;TZID=America/Bogota:20260211T100000
DTEND;TZID=America/Bogota:20260211T110000
DTSTAMP:20260423T154228
CREATED:20260303T111750Z
LAST-MODIFIED:20260303T111750Z
UID:115365-1770804000-1770807600@www.imsalud.gov.co
SUMMARY:Comité convivencia Laboral
DESCRIPTION:comité mes de febrero
URL:https://www.imsalud.gov.co/web/event/comite-convivencia-laboral-2/
LOCATION:Oficina de Administracion Laboral\, Sede Administrativa\, Cúcuta\, NS\, 540001\, Colombia
CATEGORIES:Comités
ORGANIZER;CN="Andrea Juliana Porras Nava":MAILTO:info@imsalud.gov.co
END:VEVENT
BEGIN:VEVENT
DTSTART;TZID=America/Bogota:20260212T080000
DTEND;TZID=America/Bogota:20260212T120000
DTSTAMP:20260423T154228
CREATED:20251216T204846Z
LAST-MODIFIED:20251216T204846Z
UID:113776-1770883200-1770897600@www.imsalud.gov.co
SUMMARY:Comité de Investigación
DESCRIPTION:Comité mes de Febrero
URL:https://www.imsalud.gov.co/web/event/comite-de-investigacion-9/
LOCATION:Sala de juntas\, Sede Administrativa\, Cúcuta\, NS\, 540001\, Colombia
CATEGORIES:Comités
ORGANIZER;CN="Vahan Suren Aboudjian Santos":MAILTO:info@imsalud.gov.co
END:VEVENT
BEGIN:VEVENT
DTSTART;TZID=America/Bogota:20260213T100000
DTEND;TZID=America/Bogota:20260213T110000
DTSTAMP:20260423T154228
CREATED:20260128T130842Z
LAST-MODIFIED:20260128T130842Z
UID:114710-1770976800-1770980400@www.imsalud.gov.co
SUMMARY:EPM IPS Belén
DESCRIPTION:EPM IPS Belén
URL:https://www.imsalud.gov.co/web/event/epm-ips-belen-2/
LOCATION:Consultorio de PYP\, NdeS\, 540001\, Colombia
CATEGORIES:Equipo primario de mejoramiento
ORGANIZER;CN="Yelitza Susana Acevedo Rojas":MAILTO:ublomadebolivar@imsalud.gov.co
END:VEVENT
BEGIN:VEVENT
DTSTART;TZID=America/Bogota:20260213T100000
DTEND;TZID=America/Bogota:20260213T110000
DTSTAMP:20260423T154228
CREATED:20260128T130852Z
LAST-MODIFIED:20260128T130852Z
UID:114722-1770976800-1770980400@www.imsalud.gov.co
SUMMARY:EPM IPS Cundinamarca
DESCRIPTION:EPM IPS Cundinamarca
URL:https://www.imsalud.gov.co/web/event/epm-ips-cundinamarca-2/
LOCATION:Consultorio de PYP\, NdeS\, 540001\, Colombia
CATEGORIES:Equipo primario de mejoramiento
ORGANIZER;CN="Yelitza Susana Acevedo Rojas":MAILTO:ublomadebolivar@imsalud.gov.co
END:VEVENT
BEGIN:VEVENT
DTSTART;TZID=America/Bogota:20260213T100000
DTEND;TZID=America/Bogota:20260213T110000
DTSTAMP:20260423T154228
CREATED:20260128T130903Z
LAST-MODIFIED:20260128T130903Z
UID:114734-1770976800-1770980400@www.imsalud.gov.co
SUMMARY:EPM IPS El Rodeo
DESCRIPTION:EPM IPS El Rodeo
URL:https://www.imsalud.gov.co/web/event/epm-ips-el-rodeo-2/
LOCATION:Consultorio de PYP\, NdeS\, 540001\, Colombia
CATEGORIES:Equipo primario de mejoramiento
ORGANIZER;CN="Yelitza Susana Acevedo Rojas":MAILTO:ublomadebolivar@imsalud.gov.co
END:VEVENT
BEGIN:VEVENT
DTSTART;TZID=America/Bogota:20260213T100000
DTEND;TZID=America/Bogota:20260213T110000
DTSTAMP:20260423T154228
CREATED:20260128T130909Z
LAST-MODIFIED:20260128T130909Z
UID:114746-1770976800-1770980400@www.imsalud.gov.co
SUMMARY:EPM IPS Divina Pastora
DESCRIPTION:EPM IPS Divina Pastora
URL:https://www.imsalud.gov.co/web/event/epm-ips-divina-pastora-2/
LOCATION:Consultorio de PYP\, NdeS\, 540001\, Colombia
CATEGORIES:Equipo primario de mejoramiento
ORGANIZER;CN="Yelitza Susana Acevedo Rojas":MAILTO:ublomadebolivar@imsalud.gov.co
END:VEVENT
BEGIN:VEVENT
DTSTART;TZID=America/Bogota:20260214T070000
DTEND;TZID=America/Bogota:20260214T160000
DTSTAMP:20260423T154228
CREATED:20260128T131024Z
LAST-MODIFIED:20260128T131024Z
UID:114854-1771052400-1771084800@www.imsalud.gov.co
SUMMARY:EPM IPS Los Olivos
DESCRIPTION:EPM IPS Los Olivos
URL:https://www.imsalud.gov.co/web/event/epm-ips-los-olivos-2/
LOCATION:Consultorio de PYP\, NdeS\, 540001\, Colombia
CATEGORIES:Equipo primario de mejoramiento
ORGANIZER;CN="David Fajardo Granados":MAILTO:ubpoliclinico@imsalud.gov.co
END:VEVENT
BEGIN:VEVENT
DTSTART;TZID=America/Bogota:20260214T080000
DTEND;TZID=America/Bogota:20260214T160000
DTSTAMP:20260423T154228
CREATED:20260128T131032Z
LAST-MODIFIED:20260128T131032Z
UID:114866-1771056000-1771084800@www.imsalud.gov.co
SUMMARY:EPM IPS Niña Ceci
DESCRIPTION:EPM IPS Niña Ceci
URL:https://www.imsalud.gov.co/web/event/epm-ips-nina-ceci-2/
LOCATION:Consultorio de PYP\, NdeS\, 540001\, Colombia
CATEGORIES:Equipo primario de mejoramiento
ORGANIZER;CN="David Fajardo Granados":MAILTO:ubpoliclinico@imsalud.gov.co
END:VEVENT
BEGIN:VEVENT
DTSTART;TZID=America/Bogota:20260214T100000
DTEND;TZID=America/Bogota:20260214T110000
DTSTAMP:20260423T154228
CREATED:20260128T124303Z
LAST-MODIFIED:20260128T124303Z
UID:114456-1771063200-1771066800@www.imsalud.gov.co
SUMMARY:EPM UBA La Libertad
DESCRIPTION:EPM UBA La Libertad
URL:https://www.imsalud.gov.co/web/event/epm-uba-la-libertad-2/
LOCATION:Auditorio UBA La Libertad\, UBA La Libertad\, Cúcuta\, NdeS\, 540001\, Colombia
CATEGORIES:Equipo primario de mejoramiento
ORGANIZER;CN="Anyella Quintero Lemus":MAILTO:ublibertad@imsalud.gov.co
END:VEVENT
BEGIN:VEVENT
DTSTART;TZID=America/Bogota:20260214T100000
DTEND;TZID=America/Bogota:20260214T110000
DTSTAMP:20260423T154228
CREATED:20260128T124920Z
LAST-MODIFIED:20260128T124920Z
UID:114480-1771063200-1771066800@www.imsalud.gov.co
SUMMARY:EPM IPS San Mateo
DESCRIPTION:EPM IPS San Mateo
URL:https://www.imsalud.gov.co/web/event/epm-ips-san-mateo-2/
LOCATION:Auditorio UBA La Libertad\, UBA La Libertad\, Cúcuta\, NdeS\, 540001\, Colombia
CATEGORIES:Equipo primario de mejoramiento
ORGANIZER;CN="Anyella Quintero Lemus":MAILTO:ublibertad@imsalud.gov.co
END:VEVENT
BEGIN:VEVENT
DTSTART;TZID=America/Bogota:20260214T100000
DTEND;TZID=America/Bogota:20260214T110000
DTSTAMP:20260423T154228
CREATED:20260128T125320Z
LAST-MODIFIED:20260128T125320Z
UID:114492-1771063200-1771066800@www.imsalud.gov.co
SUMMARY:EPM IPS San Martin
DESCRIPTION:EPM IPS San Martin
URL:https://www.imsalud.gov.co/web/event/epm-ips-san-martin-2/
LOCATION:Auditorio UBA La Libertad\, UBA La Libertad\, Cúcuta\, NdeS\, 540001\, Colombia
CATEGORIES:Equipo primario de mejoramiento
ORGANIZER;CN="Anyella Quintero Lemus":MAILTO:ublibertad@imsalud.gov.co
END:VEVENT
BEGIN:VEVENT
DTSTART;TZID=America/Bogota:20260214T100000
DTEND;TZID=America/Bogota:20260214T110000
DTSTAMP:20260423T154228
CREATED:20260128T125520Z
LAST-MODIFIED:20260128T125520Z
UID:114504-1771063200-1771066800@www.imsalud.gov.co
SUMMARY:EPM IPS Santa Ana
DESCRIPTION:EPM IPS Santa Ana
URL:https://www.imsalud.gov.co/web/event/epm-ips-santa-ana-2/
LOCATION:Auditorio UBA La Libertad\, UBA La Libertad\, Cúcuta\, NdeS\, 540001\, Colombia
CATEGORIES:Equipo primario de mejoramiento
ORGANIZER;CN="Anyella Quintero Lemus":MAILTO:ublibertad@imsalud.gov.co
END:VEVENT
BEGIN:VEVENT
DTSTART;TZID=America/Bogota:20260214T100000
DTEND;TZID=America/Bogota:20260214T110000
DTSTAMP:20260423T154228
CREATED:20260128T130829Z
LAST-MODIFIED:20260128T130829Z
UID:114698-1771063200-1771066800@www.imsalud.gov.co
SUMMARY:EPM UBA Loma de Bolivar
DESCRIPTION:EPM UBA Loma de Bolivar
URL:https://www.imsalud.gov.co/web/event/epm-uba-loma-de-bolivar-2/
LOCATION:Auditorio UBA Loma de Bolívar\, UBA Loma de Bolívar\, Cúcuta\, NdeS\, 540001\, Colombia
CATEGORIES:Equipo primario de mejoramiento
ORGANIZER;CN="Yelitza Susana Acevedo Rojas":MAILTO:ublomadebolivar@imsalud.gov.co
END:VEVENT
BEGIN:VEVENT
DTSTART;TZID=America/Bogota:20260214T100000
DTEND;TZID=America/Bogota:20260214T160000
DTSTAMP:20260423T154228
CREATED:20260128T131041Z
LAST-MODIFIED:20260128T131041Z
UID:114878-1771063200-1771084800@www.imsalud.gov.co
SUMMARY:EPM IPS Contingencia (Belisario-Palmeras)
DESCRIPTION:EPM IPS Contingencia (Belisario-Palmeras)
URL:https://www.imsalud.gov.co/web/event/epm-ips-contingencia-belisario-palmeras-2/
LOCATION:Consultorio de PYP\, NdeS\, 540001\, Colombia
CATEGORIES:Equipo primario de mejoramiento
ORGANIZER;CN="David Fajardo Granados":MAILTO:ubpoliclinico@imsalud.gov.co
END:VEVENT
BEGIN:VEVENT
DTSTART;TZID=America/Bogota:20260214T110000
DTEND;TZID=America/Bogota:20260214T120000
DTSTAMP:20260423T154228
CREATED:20260128T124320Z
LAST-MODIFIED:20260128T124320Z
UID:114468-1771066800-1771070400@www.imsalud.gov.co
SUMMARY:EPM IPS San Luis
DESCRIPTION:EPM IPS San Luis
URL:https://www.imsalud.gov.co/web/event/epm-ips-san-luis-2/
LOCATION:Auditorio UBA La Libertad\, UBA La Libertad\, Cúcuta\, NdeS\, 540001\, Colombia
CATEGORIES:Equipo primario de mejoramiento
ORGANIZER;CN="Anyella Quintero Lemus":MAILTO:ublibertad@imsalud.gov.co
END:VEVENT
BEGIN:VEVENT
DTSTART;TZID=America/Bogota:20260214T140000
DTEND;TZID=America/Bogota:20260214T150000
DTSTAMP:20260423T154228
CREATED:20260128T130120Z
LAST-MODIFIED:20260128T130120Z
UID:114516-1771077600-1771081200@www.imsalud.gov.co
SUMMARY:EPM IPS Boconó
DESCRIPTION:EPM IPS Boconó
URL:https://www.imsalud.gov.co/web/event/epm-ips-bocono-2/
LOCATION:Auditorio UBA La Libertad\, UBA La Libertad\, Cúcuta\, NdeS\, 540001\, Colombia
CATEGORIES:Equipo primario de mejoramiento
ORGANIZER;CN="Anyella Quintero Lemus":MAILTO:ublibertad@imsalud.gov.co
END:VEVENT
BEGIN:VEVENT
DTSTART;TZID=America/Bogota:20260215T090000
DTEND;TZID=America/Bogota:20260215T090000
DTSTAMP:20260423T154228
CREATED:20251216T204942Z
LAST-MODIFIED:20251216T204942Z
UID:113801-1771146000-1771146000@www.imsalud.gov.co
SUMMARY:Grupo de trabajo PIC
DESCRIPTION:Reunion Socializacion Plan anual de capacitacion
URL:https://www.imsalud.gov.co/web/event/grupo-de-trabajo-pic-2/
LOCATION:Oficina de Administracion Laboral\, Sede Administrativa\, Cúcuta\, NS\, 540001\, Colombia
CATEGORIES:Grupo de Trabajo
ORGANIZER;CN="Andrea Juliana Porras Nava":MAILTO:info@imsalud.gov.co
END:VEVENT
BEGIN:VEVENT
DTSTART;TZID=America/Bogota:20260216T080000
DTEND;TZID=America/Bogota:20260216T110000
DTSTAMP:20260423T154228
CREATED:20251216T204646Z
LAST-MODIFIED:20251216T204646Z
UID:113770-1771228800-1771239600@www.imsalud.gov.co
SUMMARY:Grupo de Trabajo de Archivo
DESCRIPTION:Grupo de Trabajo
URL:https://www.imsalud.gov.co/web/event/grupo-de-trabajo-de-archivo-2/
LOCATION:Auditorio Tercer Piso\, Sede Administrativa\, Cúcuta\, NS\, 540001\, Colombia
CATEGORIES:Grupo de Trabajo
ORGANIZER;CN="Erika Stella Rodriguez Duque":MAILTO:info@imsalud.gov.co
END:VEVENT
BEGIN:VEVENT
DTSTART;TZID=America/Bogota:20260216T130000
DTEND;TZID=America/Bogota:20260216T140000
DTSTAMP:20260423T154228
CREATED:20260128T130450Z
LAST-MODIFIED:20260128T130450Z
UID:114540-1771246800-1771250400@www.imsalud.gov.co
SUMMARY:EPM IPS Palmarito
DESCRIPTION:EPM IPS Palmarito
URL:https://www.imsalud.gov.co/web/event/epm-ips-palmarito-2/
LOCATION:Consultorio de PYP\, NdeS\, 540001\, Colombia
CATEGORIES:Equipo primario de mejoramiento
ORGANIZER;CN="Yonn Alexander Alvarez Bayona":MAILTO:ubaguaclara@imsalud.gov.co
END:VEVENT
END:VCALENDAR