BEGIN:VCALENDAR
VERSION:2.0
PRODID:-//IMSALUD - ECPv6.15.20//NONSGML v1.0//EN
CALSCALE:GREGORIAN
METHOD:PUBLISH
X-WR-CALNAME:IMSALUD
X-ORIGINAL-URL:https://www.imsalud.gov.co/web
X-WR-CALDESC:Eventos para IMSALUD
REFRESH-INTERVAL;VALUE=DURATION:PT1H
X-Robots-Tag:noindex
X-PUBLISHED-TTL:PT1H
BEGIN:VTIMEZONE
TZID:America/Bogota
BEGIN:STANDARD
TZOFFSETFROM:-0500
TZOFFSETTO:-0500
TZNAME:-05
DTSTART:20250101T000000
END:STANDARD
END:VTIMEZONE
BEGIN:VEVENT
DTSTART;TZID=America/Bogota:20260423T073000
DTEND;TZID=America/Bogota:20260423T090000
DTSTAMP:20260423T141240
CREATED:20251216T204524Z
LAST-MODIFIED:20251216T204524Z
UID:113711-1776929400-1776934800@www.imsalud.gov.co
SUMMARY:Comité de Seguridad del Paciente
DESCRIPTION:Comité mes de Abril
URL:https://www.imsalud.gov.co/web/event/comite-de-seguridad-del-paciente-2/
LOCATION:Auditorio Tercer Piso\, Sede Administrativa\, Cúcuta\, NS\, 540001\, Colombia
CATEGORIES:Comités
ORGANIZER;CN="Vahan Suren Aboudjian Santos":MAILTO:info@imsalud.gov.co
END:VEVENT
BEGIN:VEVENT
DTSTART;TZID=America/Bogota:20260423T090000
DTEND;TZID=America/Bogota:20260423T100000
DTSTAMP:20260423T141240
CREATED:20251216T204911Z
LAST-MODIFIED:20251216T204911Z
UID:113784-1776934800-1776938400@www.imsalud.gov.co
SUMMARY:Comité Prevención y Control de Infecciones
DESCRIPTION:Comité mes de Abril
URL:https://www.imsalud.gov.co/web/event/comite-prevencion-y-control-de-infecciones-3/
LOCATION:Auditorio Tercer Piso\, Sede Administrativa\, Cúcuta\, NS\, 540001\, Colombia
CATEGORIES:Comités
ORGANIZER;CN="Vahan Suren Aboudjian Santos":MAILTO:info@imsalud.gov.co
END:VEVENT
BEGIN:VEVENT
DTSTART;TZID=America/Bogota:20260423T100000
DTEND;TZID=America/Bogota:20260423T110000
DTSTAMP:20260423T141240
CREATED:20251216T204942Z
LAST-MODIFIED:20251216T204942Z
UID:113805-1776938400-1776942000@www.imsalud.gov.co
SUMMARY:Comité GAGAS
DESCRIPTION:Comité mes de Abril
URL:https://www.imsalud.gov.co/web/event/comite-gagas-2/
LOCATION:Auditorio Tercer Piso\, Sede Administrativa\, Cúcuta\, NS\, 540001\, Colombia
CATEGORIES:Comités
ORGANIZER;CN="Vahan Suren Aboudjian Santos":MAILTO:info@imsalud.gov.co
END:VEVENT
BEGIN:VEVENT
DTSTART;TZID=America/Bogota:20260423T110000
DTEND;TZID=America/Bogota:20260423T110000
DTSTAMP:20260423T141240
CREATED:20260128T130947Z
LAST-MODIFIED:20260128T130947Z
UID:114796-1776942000-1776942000@www.imsalud.gov.co
SUMMARY:EPM IPS Domingo perez
DESCRIPTION:EPM IPS Domingo perez
URL:https://www.imsalud.gov.co/web/event/epm-ips-domingo-perez-4/
LOCATION:Consultorio de PYP\, NdeS\, 540001\, Colombia
CATEGORIES:Equipo primario de mejoramiento
ORGANIZER;CN="Sandra Johana Velez Gonzalez":MAILTO:ubpuentebarcoleones@imsalud.gov.co
END:VEVENT
BEGIN:VEVENT
DTSTART;TZID=America/Bogota:20260423T140000
DTEND;TZID=America/Bogota:20260423T150000
DTSTAMP:20260423T141240
CREATED:20251226T152120Z
LAST-MODIFIED:20251226T152120Z
UID:114133-1776952800-1776956400@www.imsalud.gov.co
SUMMARY:EPM Gestión de  Direccionamiento Estrategico y Planeación
DESCRIPTION:EPM Gestión de  Direccionamiento Estrategico y Planeación
URL:https://www.imsalud.gov.co/web/event/epm-gestion-de-direccionamiento-estrategico-y-planeacion-4/
LOCATION:Auditorio Tercer Piso\, Sede Administrativa\, Cúcuta\, NS\, 540001\, Colombia
CATEGORIES:Equipo primario de mejoramiento
ORGANIZER;CN="Clara Yamile Cuadros Castillo":MAILTO:info@imsalud.gov.co
END:VEVENT
BEGIN:VEVENT
DTSTART;TZID=America/Bogota:20260423T150000
DTEND;TZID=America/Bogota:20260423T160000
DTSTAMP:20260423T141240
CREATED:20251226T152631Z
LAST-MODIFIED:20251226T152631Z
UID:114157-1776956400-1776960000@www.imsalud.gov.co
SUMMARY:EPM Gestión de Mejoramiento Continuo
DESCRIPTION:EPM Gestión de Mejoramiento Continuo
URL:https://www.imsalud.gov.co/web/event/epm-gestion-de-mejoramiento-continuo-4/
LOCATION:Auditorio Tercer Piso\, Sede Administrativa\, Cúcuta\, NS\, 540001\, Colombia
CATEGORIES:Equipo primario de mejoramiento
ORGANIZER;CN="Clara Yamile Cuadros Castillo":MAILTO:info@imsalud.gov.co
END:VEVENT
BEGIN:VEVENT
DTSTART;TZID=America/Bogota:20260423T150000
DTEND;TZID=America/Bogota:20260423T170000
DTSTAMP:20260423T141240
CREATED:20251226T151755Z
LAST-MODIFIED:20251226T151755Z
UID:114121-1776956400-1776963600@www.imsalud.gov.co
SUMMARY:EPM Gerencia de Ambiente Fisico
DESCRIPTION:EPM Gerencia de Ambiente Fisico
URL:https://www.imsalud.gov.co/web/event/epm-gerencia-de-ambiente-fisico-4/
LOCATION:Auditorio Tercer Piso\, Sede Administrativa\, Cúcuta\, NS\, 540001\, Colombia
CATEGORIES:Equipo primario de mejoramiento
ORGANIZER;CN="Martha Lucia Burbano Rodriguez":MAILTO:info@imsalud.gov.co
END:VEVENT
BEGIN:VEVENT
DTSTART;TZID=America/Bogota:20260423T150000
DTEND;TZID=America/Bogota:20260423T170000
DTSTAMP:20260423T141240
CREATED:20251226T152434Z
LAST-MODIFIED:20251226T152434Z
UID:114145-1776956400-1776963600@www.imsalud.gov.co
SUMMARY:EPM Gestion de Contratacion
DESCRIPTION:EPM Gestion de Contratacion
URL:https://www.imsalud.gov.co/web/event/epm-gestion-de-contratacion-4/
LOCATION:Auditorio Tercer Piso\, Sede Administrativa\, Cúcuta\, NS\, 540001\, Colombia
CATEGORIES:Equipo primario de mejoramiento
ORGANIZER;CN="Martha Lucia Burbano Rodriguez":MAILTO:info@imsalud.gov.co
END:VEVENT
BEGIN:VEVENT
DTSTART;TZID=America/Bogota:20260423T150000
DTEND;TZID=America/Bogota:20260423T180000
DTSTAMP:20260423T141240
CREATED:20251216T205301Z
LAST-MODIFIED:20251216T205301Z
UID:113887-1776956400-1776967200@www.imsalud.gov.co
SUMMARY:Comité de Cartera
DESCRIPTION:Comité mes de abril
URL:https://www.imsalud.gov.co/web/event/comite-de-cartera-5/
LOCATION:Sala de juntas\, Sede Administrativa\, Cúcuta\, NS\, 540001\, Colombia
CATEGORIES:Comités
ORGANIZER;CN="Javier Orlando Prieto Pe%C3%B1a":MAILTO:info@imsalud.gov.co
END:VEVENT
BEGIN:VEVENT
DTSTART;TZID=America/Bogota:20260423T160000
DTEND;TZID=America/Bogota:20260423T170000
DTSTAMP:20260423T141240
CREATED:20251226T153031Z
LAST-MODIFIED:20251226T153031Z
UID:114167-1776960000-1776963600@www.imsalud.gov.co
SUMMARY:EPM Gestión Financiera (Contabilidad)
DESCRIPTION:EPM Gestión Financiera (Contabilidad)
URL:https://www.imsalud.gov.co/web/event/epm-gestion-financiera-contabilidad-2/
LOCATION:Oficina de Contabilidad\, Sede Administrativa\, Cúcuta\, NS\, 540001\, Colombia
CATEGORIES:Equipo primario de mejoramiento
ORGANIZER;CN="Dalgy Brigitte Florez Acevedo":MAILTO:info@imsalud.gov.co
END:VEVENT
BEGIN:VEVENT
DTSTART;TZID=America/Bogota:20260423T160000
DTEND;TZID=America/Bogota:20260423T170000
DTSTAMP:20260423T141240
CREATED:20260128T131004Z
LAST-MODIFIED:20260128T131004Z
UID:114820-1776960000-1776963600@www.imsalud.gov.co
SUMMARY:EPM IPS Guaimaral
DESCRIPTION:EPM IPS Guaimaral
URL:https://www.imsalud.gov.co/web/event/epm-ips-guaimaral-4/
LOCATION:Consultorio de PYP\, NdeS\, 540001\, Colombia
CATEGORIES:Equipo primario de mejoramiento
ORGANIZER;CN="Sandra Johana Velez Gonzalez":MAILTO:ubpuentebarcoleones@imsalud.gov.co
END:VEVENT
END:VCALENDAR