BEGIN:VCALENDAR
VERSION:2.0
PRODID:-//IMSALUD - ECPv6.15.20//NONSGML v1.0//EN
CALSCALE:GREGORIAN
METHOD:PUBLISH
X-ORIGINAL-URL:https://www.imsalud.gov.co/web
X-WR-CALDESC:Eventos para IMSALUD
REFRESH-INTERVAL;VALUE=DURATION:PT1H
X-Robots-Tag:noindex
X-PUBLISHED-TTL:PT1H
BEGIN:VTIMEZONE
TZID:America/Bogota
BEGIN:STANDARD
TZOFFSETFROM:-0500
TZOFFSETTO:-0500
TZNAME:-05
DTSTART:20250101T000000
END:STANDARD
END:VTIMEZONE
BEGIN:VEVENT
DTSTART;TZID=America/Bogota:20260509T070000
DTEND;TZID=America/Bogota:20260509T080000
DTSTAMP:20260423T223720
CREATED:20260128T125505Z
LAST-MODIFIED:20260128T125505Z
UID:114495-1778310000-1778313600@www.imsalud.gov.co
SUMMARY:EPM IPS San Martin
DESCRIPTION:EPM IPS San Martin
URL:https://www.imsalud.gov.co/web/event/epm-ips-san-martin-5/
LOCATION:Consultorio de PYP\, NdeS\, 540001\, Colombia
CATEGORIES:Equipo primario de mejoramiento
ORGANIZER;CN="Anyella Quintero Lemus":MAILTO:ublibertad@imsalud.gov.co
END:VEVENT
BEGIN:VEVENT
DTSTART;TZID=America/Bogota:20260509T070000
DTEND;TZID=America/Bogota:20260509T160000
DTSTAMP:20260423T223720
CREATED:20260128T131028Z
LAST-MODIFIED:20260128T131028Z
UID:114857-1778310000-1778342400@www.imsalud.gov.co
SUMMARY:EPM IPS Los Olivos
DESCRIPTION:EPM IPS Los Olivos
URL:https://www.imsalud.gov.co/web/event/epm-ips-los-olivos-5/
LOCATION:Consultorio de PYP\, NdeS\, 540001\, Colombia
CATEGORIES:Equipo primario de mejoramiento
ORGANIZER;CN="David Fajardo Granados":MAILTO:ubpoliclinico@imsalud.gov.co
END:VEVENT
BEGIN:VEVENT
DTSTART;TZID=America/Bogota:20260509T080000
DTEND;TZID=America/Bogota:20260509T160000
DTSTAMP:20260423T223720
CREATED:20260128T131034Z
LAST-MODIFIED:20260128T131034Z
UID:114869-1778313600-1778342400@www.imsalud.gov.co
SUMMARY:EPM IPS Niña Ceci
DESCRIPTION:EPM IPS Niña Ceci
URL:https://www.imsalud.gov.co/web/event/epm-ips-nina-ceci-5/
LOCATION:Consultorio de PYP\, NdeS\, 540001\, Colombia
CATEGORIES:Equipo primario de mejoramiento
ORGANIZER;CN="David Fajardo Granados":MAILTO:ubpoliclinico@imsalud.gov.co
END:VEVENT
BEGIN:VEVENT
DTSTART;TZID=America/Bogota:20260509T083000
DTEND;TZID=America/Bogota:20260509T093000
DTSTAMP:20260423T223720
CREATED:20260128T125720Z
LAST-MODIFIED:20260128T125720Z
UID:114507-1778315400-1778319000@www.imsalud.gov.co
SUMMARY:EPM IPS Santa Ana
DESCRIPTION:EPM IPS Santa Ana
URL:https://www.imsalud.gov.co/web/event/epm-ips-santa-ana-5/
LOCATION:Consultorio de PYP\, NdeS\, 540001\, Colombia
CATEGORIES:Equipo primario de mejoramiento
ORGANIZER;CN="Anyella Quintero Lemus":MAILTO:ublibertad@imsalud.gov.co
END:VEVENT
BEGIN:VEVENT
DTSTART;TZID=America/Bogota:20260509T100000
DTEND;TZID=America/Bogota:20260509T110000
DTSTAMP:20260423T223720
CREATED:20260128T130120Z
LAST-MODIFIED:20260128T130120Z
UID:114519-1778320800-1778324400@www.imsalud.gov.co
SUMMARY:EPM IPS Boconó
DESCRIPTION:EPM IPS Boconó
URL:https://www.imsalud.gov.co/web/event/epm-ips-bocono-5/
LOCATION:Consultorio de PYP\, NdeS\, 540001\, Colombia
CATEGORIES:Equipo primario de mejoramiento
ORGANIZER;CN="Anyella Quintero Lemus":MAILTO:ublibertad@imsalud.gov.co
END:VEVENT
BEGIN:VEVENT
DTSTART;TZID=America/Bogota:20260509T100000
DTEND;TZID=America/Bogota:20260509T110000
DTSTAMP:20260423T223720
CREATED:20260128T130829Z
LAST-MODIFIED:20260128T130829Z
UID:114701-1778320800-1778324400@www.imsalud.gov.co
SUMMARY:EPM UBA Loma de Bolivar
DESCRIPTION:EPM UBA Loma de Bolivar
URL:https://www.imsalud.gov.co/web/event/epm-uba-loma-de-bolivar-5/
LOCATION:Auditorio UBA Loma de Bolívar\, UBA Loma de Bolívar\, Cúcuta\, NdeS\, 540001\, Colombia
CATEGORIES:Equipo primario de mejoramiento
ORGANIZER;CN="Yelitza Susana Acevedo Rojas":MAILTO:ublomadebolivar@imsalud.gov.co
END:VEVENT
BEGIN:VEVENT
DTSTART;TZID=America/Bogota:20260509T100000
DTEND;TZID=America/Bogota:20260509T160000
DTSTAMP:20260423T223720
CREATED:20260128T131041Z
LAST-MODIFIED:20260128T131041Z
UID:114881-1778320800-1778342400@www.imsalud.gov.co
SUMMARY:EPM IPS Contingencia (Belisario-Palmeras)
DESCRIPTION:EPM IPS Contingencia (Belisario-Palmeras)
URL:https://www.imsalud.gov.co/web/event/epm-ips-contingencia-belisario-palmeras-5/
LOCATION:Consultorio de PYP\, NdeS\, 540001\, Colombia
CATEGORIES:Equipo primario de mejoramiento
ORGANIZER;CN="David Fajardo Granados":MAILTO:ubpoliclinico@imsalud.gov.co
END:VEVENT
END:VCALENDAR