BEGIN:VCALENDAR
VERSION:2.0
PRODID:-//IMSALUD - ECPv6.15.20//NONSGML v1.0//EN
CALSCALE:GREGORIAN
METHOD:PUBLISH
X-ORIGINAL-URL:https://www.imsalud.gov.co/web
X-WR-CALDESC:Eventos para IMSALUD
REFRESH-INTERVAL;VALUE=DURATION:PT1H
X-Robots-Tag:noindex
X-PUBLISHED-TTL:PT1H
BEGIN:VTIMEZONE
TZID:America/Bogota
BEGIN:STANDARD
TZOFFSETFROM:-0500
TZOFFSETTO:-0500
TZNAME:-05
DTSTART:20250101T000000
END:STANDARD
END:VTIMEZONE
BEGIN:VEVENT
DTSTART;TZID=America/Bogota:20260411T070000
DTEND;TZID=America/Bogota:20260411T160000
DTSTAMP:20260423T141943
CREATED:20260128T131024Z
LAST-MODIFIED:20260128T131024Z
UID:114856-1775890800-1775923200@www.imsalud.gov.co
SUMMARY:EPM IPS Los Olivos
DESCRIPTION:EPM IPS Los Olivos
URL:https://www.imsalud.gov.co/web/event/epm-ips-los-olivos-4/
LOCATION:Consultorio de PYP\, NdeS\, 540001\, Colombia
CATEGORIES:Equipo primario de mejoramiento
ORGANIZER;CN="David Fajardo Granados":MAILTO:ubpoliclinico@imsalud.gov.co
END:VEVENT
BEGIN:VEVENT
DTSTART;TZID=America/Bogota:20260411T080000
DTEND;TZID=America/Bogota:20260411T160000
DTSTAMP:20260423T141943
CREATED:20260128T131034Z
LAST-MODIFIED:20260128T131034Z
UID:114868-1775894400-1775923200@www.imsalud.gov.co
SUMMARY:EPM IPS Niña Ceci
DESCRIPTION:EPM IPS Niña Ceci
URL:https://www.imsalud.gov.co/web/event/epm-ips-nina-ceci-4/
LOCATION:Consultorio de PYP\, NdeS\, 540001\, Colombia
CATEGORIES:Equipo primario de mejoramiento
ORGANIZER;CN="David Fajardo Granados":MAILTO:ubpoliclinico@imsalud.gov.co
END:VEVENT
BEGIN:VEVENT
DTSTART;TZID=America/Bogota:20260411T100000
DTEND;TZID=America/Bogota:20260411T110000
DTSTAMP:20260423T141943
CREATED:20260128T124520Z
LAST-MODIFIED:20260128T124520Z
UID:114470-1775901600-1775905200@www.imsalud.gov.co
SUMMARY:EPM IPS San Luis
DESCRIPTION:EPM IPS San Luis
URL:https://www.imsalud.gov.co/web/event/epm-ips-san-luis-4/
LOCATION:Auditorio UBA La Libertad\, UBA La Libertad\, Cúcuta\, NdeS\, 540001\, Colombia
CATEGORIES:Equipo primario de mejoramiento
ORGANIZER;CN="Anyella Quintero Lemus":MAILTO:ublibertad@imsalud.gov.co
END:VEVENT
BEGIN:VEVENT
DTSTART;TZID=America/Bogota:20260411T100000
DTEND;TZID=America/Bogota:20260411T110000
DTSTAMP:20260423T141943
CREATED:20260128T124920Z
LAST-MODIFIED:20260128T124920Z
UID:114482-1775901600-1775905200@www.imsalud.gov.co
SUMMARY:EPM IPS San Mateo
DESCRIPTION:EPM IPS San Mateo
URL:https://www.imsalud.gov.co/web/event/epm-ips-san-mateo-4/
LOCATION:Auditorio UBA La Libertad\, UBA La Libertad\, Cúcuta\, NdeS\, 540001\, Colombia
CATEGORIES:Equipo primario de mejoramiento
ORGANIZER;CN="Anyella Quintero Lemus":MAILTO:ublibertad@imsalud.gov.co
END:VEVENT
BEGIN:VEVENT
DTSTART;TZID=America/Bogota:20260411T100000
DTEND;TZID=America/Bogota:20260411T110000
DTSTAMP:20260423T141943
CREATED:20260128T125320Z
LAST-MODIFIED:20260128T125320Z
UID:114494-1775901600-1775905200@www.imsalud.gov.co
SUMMARY:EPM IPS San Martin
DESCRIPTION:EPM IPS San Martin
URL:https://www.imsalud.gov.co/web/event/epm-ips-san-martin-4/
LOCATION:Auditorio UBA La Libertad\, UBA La Libertad\, Cúcuta\, NdeS\, 540001\, Colombia
CATEGORIES:Equipo primario de mejoramiento
ORGANIZER;CN="Anyella Quintero Lemus":MAILTO:ublibertad@imsalud.gov.co
END:VEVENT
BEGIN:VEVENT
DTSTART;TZID=America/Bogota:20260411T100000
DTEND;TZID=America/Bogota:20260411T110000
DTSTAMP:20260423T141943
CREATED:20260128T125720Z
LAST-MODIFIED:20260128T125720Z
UID:114506-1775901600-1775905200@www.imsalud.gov.co
SUMMARY:EPM IPS Santa Ana
DESCRIPTION:EPM IPS Santa Ana
URL:https://www.imsalud.gov.co/web/event/epm-ips-santa-ana-4/
LOCATION:Auditorio UBA La Libertad\, UBA La Libertad\, Cúcuta\, NdeS\, 540001\, Colombia
CATEGORIES:Equipo primario de mejoramiento
ORGANIZER;CN="Anyella Quintero Lemus":MAILTO:ublibertad@imsalud.gov.co
END:VEVENT
BEGIN:VEVENT
DTSTART;TZID=America/Bogota:20260411T100000
DTEND;TZID=America/Bogota:20260411T110000
DTSTAMP:20260423T141943
CREATED:20260128T130829Z
LAST-MODIFIED:20260128T130829Z
UID:114700-1775901600-1775905200@www.imsalud.gov.co
SUMMARY:EPM UBA Loma de Bolivar
DESCRIPTION:EPM UBA Loma de Bolivar
URL:https://www.imsalud.gov.co/web/event/epm-uba-loma-de-bolivar-4/
LOCATION:Auditorio UBA Loma de Bolívar\, UBA Loma de Bolívar\, Cúcuta\, NdeS\, 540001\, Colombia
CATEGORIES:Equipo primario de mejoramiento
ORGANIZER;CN="Yelitza Susana Acevedo Rojas":MAILTO:ublomadebolivar@imsalud.gov.co
END:VEVENT
BEGIN:VEVENT
DTSTART;TZID=America/Bogota:20260411T100000
DTEND;TZID=America/Bogota:20260411T160000
DTSTAMP:20260423T141943
CREATED:20260128T131041Z
LAST-MODIFIED:20260128T131041Z
UID:114880-1775901600-1775923200@www.imsalud.gov.co
SUMMARY:EPM IPS Contingencia (Belisario-Palmeras)
DESCRIPTION:EPM IPS Contingencia (Belisario-Palmeras)
URL:https://www.imsalud.gov.co/web/event/epm-ips-contingencia-belisario-palmeras-4/
LOCATION:Consultorio de PYP\, NdeS\, 540001\, Colombia
CATEGORIES:Equipo primario de mejoramiento
ORGANIZER;CN="David Fajardo Granados":MAILTO:ubpoliclinico@imsalud.gov.co
END:VEVENT
BEGIN:VEVENT
DTSTART;TZID=America/Bogota:20260411T140000
DTEND;TZID=America/Bogota:20260411T150000
DTSTAMP:20260423T141943
CREATED:20260128T130120Z
LAST-MODIFIED:20260128T130120Z
UID:114518-1775916000-1775919600@www.imsalud.gov.co
SUMMARY:EPM IPS Boconó
DESCRIPTION:EPM IPS Boconó
URL:https://www.imsalud.gov.co/web/event/epm-ips-bocono-4/
LOCATION:Auditorio UBA La Libertad\, UBA La Libertad\, Cúcuta\, NdeS\, 540001\, Colombia
CATEGORIES:Equipo primario de mejoramiento
ORGANIZER;CN="Anyella Quintero Lemus":MAILTO:ublibertad@imsalud.gov.co
END:VEVENT
BEGIN:VEVENT
DTSTART;TZID=America/Bogota:20260411T150000
DTEND;TZID=America/Bogota:20260411T150000
DTSTAMP:20260423T141943
CREATED:20260128T124303Z
LAST-MODIFIED:20260128T124303Z
UID:114458-1775919600-1775919600@www.imsalud.gov.co
SUMMARY:EPM UBA La Libertad
DESCRIPTION:EPM UBA La Libertad
URL:https://www.imsalud.gov.co/web/event/epm-uba-la-libertad-4/
LOCATION:Auditorio UBA La Libertad\, UBA La Libertad\, Cúcuta\, NdeS\, 540001\, Colombia
CATEGORIES:Equipo primario de mejoramiento
ORGANIZER;CN="Anyella Quintero Lemus":MAILTO:ublibertad@imsalud.gov.co
END:VEVENT
END:VCALENDAR