BEGIN:VCALENDAR
VERSION:2.0
PRODID:-//IMSALUD - ECPv6.15.20//NONSGML v1.0//EN
CALSCALE:GREGORIAN
METHOD:PUBLISH
X-ORIGINAL-URL:https://www.imsalud.gov.co/web
X-WR-CALDESC:Eventos para IMSALUD
REFRESH-INTERVAL;VALUE=DURATION:PT1H
X-Robots-Tag:noindex
X-PUBLISHED-TTL:PT1H
BEGIN:VTIMEZONE
TZID:America/Bogota
BEGIN:STANDARD
TZOFFSETFROM:-0500
TZOFFSETTO:-0500
TZNAME:-05
DTSTART:20250101T000000
END:STANDARD
END:VTIMEZONE
BEGIN:VEVENT
DTSTART;TZID=America/Bogota:20260410T100000
DTEND;TZID=America/Bogota:20260410T110000
DTSTAMP:20260423T141906
CREATED:20260128T130846Z
LAST-MODIFIED:20260128T130846Z
UID:114712-1775815200-1775818800@www.imsalud.gov.co
SUMMARY:EPM IPS Belén
DESCRIPTION:EPM IPS Belén
URL:https://www.imsalud.gov.co/web/event/epm-ips-belen-4/
LOCATION:Consultorio de PYP\, NdeS\, 540001\, Colombia
CATEGORIES:Equipo primario de mejoramiento
ORGANIZER;CN="Yelitza Susana Acevedo Rojas":MAILTO:ublomadebolivar@imsalud.gov.co
END:VEVENT
BEGIN:VEVENT
DTSTART;TZID=America/Bogota:20260410T100000
DTEND;TZID=America/Bogota:20260410T110000
DTSTAMP:20260423T141906
CREATED:20260128T130852Z
LAST-MODIFIED:20260128T130852Z
UID:114724-1775815200-1775818800@www.imsalud.gov.co
SUMMARY:EPM IPS Cundinamarca
DESCRIPTION:EPM IPS Cundinamarca
URL:https://www.imsalud.gov.co/web/event/epm-ips-cundinamarca-4/
LOCATION:Consultorio de PYP\, NdeS\, 540001\, Colombia
CATEGORIES:Equipo primario de mejoramiento
ORGANIZER;CN="Yelitza Susana Acevedo Rojas":MAILTO:ublomadebolivar@imsalud.gov.co
END:VEVENT
BEGIN:VEVENT
DTSTART;TZID=America/Bogota:20260410T100000
DTEND;TZID=America/Bogota:20260410T110000
DTSTAMP:20260423T141906
CREATED:20260128T130903Z
LAST-MODIFIED:20260128T130903Z
UID:114736-1775815200-1775818800@www.imsalud.gov.co
SUMMARY:EPM IPS El Rodeo
DESCRIPTION:EPM IPS El Rodeo
URL:https://www.imsalud.gov.co/web/event/epm-ips-el-rodeo-4/
LOCATION:Consultorio de PYP\, NdeS\, 540001\, Colombia
CATEGORIES:Equipo primario de mejoramiento
ORGANIZER;CN="Yelitza Susana Acevedo Rojas":MAILTO:ublomadebolivar@imsalud.gov.co
END:VEVENT
BEGIN:VEVENT
DTSTART;TZID=America/Bogota:20260410T100000
DTEND;TZID=America/Bogota:20260410T110000
DTSTAMP:20260423T141906
CREATED:20260128T130916Z
LAST-MODIFIED:20260128T130916Z
UID:114748-1775815200-1775818800@www.imsalud.gov.co
SUMMARY:EPM IPS Divina Pastora
DESCRIPTION:EPM IPS Divina Pastora
URL:https://www.imsalud.gov.co/web/event/epm-ips-divina-pastora-4/
LOCATION:Consultorio de PYP\, NdeS\, 540001\, Colombia
CATEGORIES:Equipo primario de mejoramiento
ORGANIZER;CN="Yelitza Susana Acevedo Rojas":MAILTO:ublomadebolivar@imsalud.gov.co
END:VEVENT
END:VCALENDAR