BEGIN:VCALENDAR
VERSION:2.0
PRODID:-//IMSALUD - ECPv6.15.20//NONSGML v1.0//EN
CALSCALE:GREGORIAN
METHOD:PUBLISH
X-WR-CALNAME:IMSALUD
X-ORIGINAL-URL:https://www.imsalud.gov.co/web
X-WR-CALDESC:Eventos para IMSALUD
REFRESH-INTERVAL;VALUE=DURATION:PT1H
X-Robots-Tag:noindex
X-PUBLISHED-TTL:PT1H
BEGIN:VTIMEZONE
TZID:America/Bogota
BEGIN:STANDARD
TZOFFSETFROM:-0500
TZOFFSETTO:-0500
TZNAME:-05
DTSTART:20250101T000000
END:STANDARD
END:VTIMEZONE
BEGIN:VEVENT
DTSTART;TZID=America/Bogota:20260408T080000
DTEND;TZID=America/Bogota:20260408T160000
DTSTAMP:20260423T141238
CREATED:20260128T131017Z
LAST-MODIFIED:20260128T131017Z
UID:114844-1775635200-1775664000@www.imsalud.gov.co
SUMMARY:EPM UBA Policlinico
DESCRIPTION:EPM UBA Policlinico
URL:https://www.imsalud.gov.co/web/event/epm-uba-policlinico-4/
LOCATION:Consultorio de PYP\, NdeS\, 540001\, Colombia
CATEGORIES:Equipo primario de mejoramiento
ORGANIZER;CN="David Fajardo Granados":MAILTO:ubpoliclinico@imsalud.gov.co
END:VEVENT
BEGIN:VEVENT
DTSTART;TZID=America/Bogota:20260408T100000
DTEND;TZID=America/Bogota:20260408T110000
DTSTAMP:20260423T141238
CREATED:20260303T111751Z
LAST-MODIFIED:20260303T111751Z
UID:115367-1775642400-1775646000@www.imsalud.gov.co
SUMMARY:Comité convivencia Laboral
DESCRIPTION:comité mes de abril
URL:https://www.imsalud.gov.co/web/event/comite-convivencia-laboral-19/
LOCATION:Oficina de Administracion Laboral\, Sede Administrativa\, Cúcuta\, NS\, 540001\, Colombia
CATEGORIES:Comités
ORGANIZER;CN="Andrea Juliana Porras Nava":MAILTO:info@imsalud.gov.co
END:VEVENT
BEGIN:VEVENT
DTSTART;TZID=America/Bogota:20260408T100000
DTEND;TZID=America/Bogota:20260408T114000
DTSTAMP:20260423T141238
CREATED:20251216T205012Z
LAST-MODIFIED:20251216T205012Z
UID:113823-1775642400-1775648400@www.imsalud.gov.co
SUMMARY:Comité de Conciliaciones
DESCRIPTION:Comité mes de Abril
URL:https://www.imsalud.gov.co/web/event/comite-de-conciliaciones-11/
LOCATION:Gerencia\, Sede Administrativa\, Cúcuta\, NS\, 540001\, Colombia
CATEGORIES:Comités
ORGANIZER;CN="Javier Orlando Prieto Pe%C3%B1a":MAILTO:info@imsalud.gov.co
END:VEVENT
END:VCALENDAR