BEGIN:VCALENDAR
VERSION:2.0
PRODID:-//IMSALUD - ECPv6.15.20//NONSGML v1.0//EN
CALSCALE:GREGORIAN
METHOD:PUBLISH
X-ORIGINAL-URL:https://www.imsalud.gov.co/web
X-WR-CALDESC:Eventos para IMSALUD
REFRESH-INTERVAL;VALUE=DURATION:PT1H
X-Robots-Tag:noindex
X-PUBLISHED-TTL:PT1H
BEGIN:VTIMEZONE
TZID:America/Bogota
BEGIN:STANDARD
TZOFFSETFROM:-0500
TZOFFSETTO:-0500
TZNAME:-05
DTSTART:20250101T000000
END:STANDARD
END:VTIMEZONE
BEGIN:VEVENT
DTSTART;TZID=America/Bogota:20260324T110000
DTEND;TZID=America/Bogota:20260324T110000
DTSTAMP:20260423T154647
CREATED:20260128T130941Z
LAST-MODIFIED:20260128T130941Z
UID:114783-1774350000-1774350000@www.imsalud.gov.co
SUMMARY:EPM IPS El Contento
DESCRIPTION:EPM IPS El Contento
URL:https://www.imsalud.gov.co/web/event/epm-ips-el-contento-3/
LOCATION:Consultorio de PYP\, NdeS\, 540001\, Colombia
CATEGORIES:Equipo primario de mejoramiento
ORGANIZER;CN="Sandra Johana Velez Gonzalez":MAILTO:ubpuentebarcoleones@imsalud.gov.co
END:VEVENT
BEGIN:VEVENT
DTSTART;TZID=America/Bogota:20260324T110000
DTEND;TZID=America/Bogota:20260324T110000
DTSTAMP:20260423T154647
CREATED:20260128T130947Z
LAST-MODIFIED:20260128T130947Z
UID:114795-1774350000-1774350000@www.imsalud.gov.co
SUMMARY:EPM IPS Domingo perez
DESCRIPTION:EPM IPS Domingo perez
URL:https://www.imsalud.gov.co/web/event/epm-ips-domingo-perez-3/
LOCATION:Consultorio de PYP\, NdeS\, 540001\, Colombia
CATEGORIES:Equipo primario de mejoramiento
ORGANIZER;CN="Sandra Johana Velez Gonzalez":MAILTO:ubpuentebarcoleones@imsalud.gov.co
END:VEVENT
BEGIN:VEVENT
DTSTART;TZID=America/Bogota:20260324T110000
DTEND;TZID=America/Bogota:20260324T110000
DTSTAMP:20260423T154647
CREATED:20260128T131004Z
LAST-MODIFIED:20260128T131004Z
UID:114819-1774350000-1774350000@www.imsalud.gov.co
SUMMARY:EPM IPS Guaimaral
DESCRIPTION:EPM IPS Guaimaral
URL:https://www.imsalud.gov.co/web/event/epm-ips-guaimaral-3/
LOCATION:Consultorio de PYP\, NdeS\, 540001\, Colombia
CATEGORIES:Equipo primario de mejoramiento
ORGANIZER;CN="Sandra Johana Velez Gonzalez":MAILTO:ubpuentebarcoleones@imsalud.gov.co
END:VEVENT
BEGIN:VEVENT
DTSTART;TZID=America/Bogota:20260324T140000
DTEND;TZID=America/Bogota:20260324T180000
DTSTAMP:20260423T154647
CREATED:20251216T205240Z
LAST-MODIFIED:20251216T205240Z
UID:113877-1774360800-1774375200@www.imsalud.gov.co
SUMMARY:Comité de Gestión y Desempeño
DESCRIPTION:Comité mes de Marzo
URL:https://www.imsalud.gov.co/web/event/comite-de-gestion-y-desempeno-9/
LOCATION:Auditorio Tercer Piso\, Sede Administrativa\, Cúcuta\, NS\, 540001\, Colombia
CATEGORIES:Comités
ORGANIZER;CN="Dalgy Brigitte Florez Acevedo":MAILTO:info@imsalud.gov.co
END:VEVENT
END:VCALENDAR