BEGIN:VCALENDAR
VERSION:2.0
PRODID:-//IMSALUD - ECPv6.15.20//NONSGML v1.0//EN
CALSCALE:GREGORIAN
METHOD:PUBLISH
X-WR-CALNAME:IMSALUD
X-ORIGINAL-URL:https://www.imsalud.gov.co/web
X-WR-CALDESC:Eventos para IMSALUD
REFRESH-INTERVAL;VALUE=DURATION:PT1H
X-Robots-Tag:noindex
X-PUBLISHED-TTL:PT1H
BEGIN:VTIMEZONE
TZID:America/Bogota
BEGIN:STANDARD
TZOFFSETFROM:-0500
TZOFFSETTO:-0500
TZNAME:-05
DTSTART:20250101T000000
END:STANDARD
END:VTIMEZONE
BEGIN:VEVENT
DTSTART;TZID=America/Bogota:20260319T073000
DTEND;TZID=America/Bogota:20260319T090000
DTSTAMP:20260423T154254
CREATED:20251216T204526Z
LAST-MODIFIED:20251216T204526Z
UID:113718-1773905400-1773910800@www.imsalud.gov.co
SUMMARY:Comité de Seguridad del Paciente
DESCRIPTION:Comité mes de Marzo
URL:https://www.imsalud.gov.co/web/event/comite-de-seguridad-del-paciente-9/
LOCATION:Auditorio Tercer Piso\, Sede Administrativa\, Cúcuta\, NS\, 540001\, Colombia
CATEGORIES:Comités
ORGANIZER;CN="Vahan Suren Aboudjian Santos":MAILTO:info@imsalud.gov.co
END:VEVENT
BEGIN:VEVENT
DTSTART;TZID=America/Bogota:20260319T080000
DTEND;TZID=America/Bogota:20260319T090000
DTSTAMP:20260423T154254
CREATED:20251226T153314Z
LAST-MODIFIED:20251226T153314Z
UID:114180-1773907200-1773910800@www.imsalud.gov.co
SUMMARY:EPM Promocion y Mantenimiento de la salud
DESCRIPTION:EPM Promocion y Mantenimiento de la salud
URL:https://www.imsalud.gov.co/web/event/epm-promocion-y-mantenimiento-de-la-salud-3/
LOCATION:Auditorio Tercer Piso\, Sede Administrativa\, Cúcuta\, NS\, 540001\, Colombia
CATEGORIES:Equipo primario de mejoramiento
ORGANIZER;CN="Diana Patricia Martinez Becerra":MAILTO:info@imsalud.gov.co
END:VEVENT
BEGIN:VEVENT
DTSTART;TZID=America/Bogota:20260319T090000
DTEND;TZID=America/Bogota:20260319T100000
DTSTAMP:20260423T154254
CREATED:20251216T204926Z
LAST-MODIFIED:20251216T204926Z
UID:113791-1773910800-1773914400@www.imsalud.gov.co
SUMMARY:Comité Prevención y Control de Infecciones
DESCRIPTION:Comité mes de Marzo
URL:https://www.imsalud.gov.co/web/event/comite-prevencion-y-control-de-infecciones-10/
LOCATION:Auditorio Tercer Piso\, Sede Administrativa\, Cúcuta\, NS\, 540001\, Colombia
CATEGORIES:Comités
ORGANIZER;CN="Vahan Suren Aboudjian Santos":MAILTO:info@imsalud.gov.co
END:VEVENT
BEGIN:VEVENT
DTSTART;TZID=America/Bogota:20260319T100000
DTEND;TZID=America/Bogota:20260319T110000
DTSTAMP:20260423T154254
CREATED:20251216T204957Z
LAST-MODIFIED:20251216T204957Z
UID:113812-1773914400-1773918000@www.imsalud.gov.co
SUMMARY:Comité GAGAS
DESCRIPTION:Comité mes de Marzo
URL:https://www.imsalud.gov.co/web/event/comite-gagas-9/
LOCATION:Auditorio Tercer Piso\, Sede Administrativa\, Cúcuta\, NS\, 540001\, Colombia
CATEGORIES:Comités
ORGANIZER;CN="Vahan Suren Aboudjian Santos":MAILTO:info@imsalud.gov.co
END:VEVENT
BEGIN:VEVENT
DTSTART;TZID=America/Bogota:20260319T110000
DTEND;TZID=America/Bogota:20260319T120000
DTSTAMP:20260423T154254
CREATED:20251216T205206Z
LAST-MODIFIED:20251216T205206Z
UID:113865-1773918000-1773921600@www.imsalud.gov.co
SUMMARY:Comité de Farmacia y Terapeutica
DESCRIPTION:Comité mes de Marzo
URL:https://www.imsalud.gov.co/web/event/comite-de-farmacia-y-terapeutica-11/
LOCATION:Auditorio Tercer Piso\, Sede Administrativa\, Cúcuta\, NS\, 540001\, Colombia
CATEGORIES:Comités
ORGANIZER;CN="Vahan Suren Aboudjian Santos":MAILTO:info@imsalud.gov.co
END:VEVENT
BEGIN:VEVENT
DTSTART;TZID=America/Bogota:20260319T140000
DTEND;TZID=America/Bogota:20260319T150000
DTSTAMP:20260423T154254
CREATED:20251226T152120Z
LAST-MODIFIED:20251226T152120Z
UID:114132-1773928800-1773932400@www.imsalud.gov.co
SUMMARY:EPM Gestión de  Direccionamiento Estrategico y Planeación
DESCRIPTION:EPM Gestión de  Direccionamiento Estrategico y Planeación
URL:https://www.imsalud.gov.co/web/event/epm-gestion-de-direccionamiento-estrategico-y-planeacion-3/
LOCATION:Auditorio Tercer Piso\, Sede Administrativa\, Cúcuta\, NS\, 540001\, Colombia
CATEGORIES:Equipo primario de mejoramiento
END:VEVENT
BEGIN:VEVENT
DTSTART;TZID=America/Bogota:20260319T150000
DTEND;TZID=America/Bogota:20260319T160000
DTSTAMP:20260423T154254
CREATED:20251226T152616Z
LAST-MODIFIED:20251226T152616Z
UID:114156-1773932400-1773936000@www.imsalud.gov.co
SUMMARY:EPM Gestión de Mejoramiento Continuo
DESCRIPTION:EPM Gestión de Mejoramiento Continuo
URL:https://www.imsalud.gov.co/web/event/epm-gestion-de-mejoramiento-continuo-3/
LOCATION:Auditorio Tercer Piso\, Sede Administrativa\, Cúcuta\, NS\, 540001\, Colombia
CATEGORIES:Equipo primario de mejoramiento
ORGANIZER;CN="Clara Yamile Cuadros Castillo":MAILTO:info@imsalud.gov.co
END:VEVENT
BEGIN:VEVENT
DTSTART;TZID=America/Bogota:20260319T160000
DTEND;TZID=America/Bogota:20260319T170000
DTSTAMP:20260423T154254
CREATED:20251226T153231Z
LAST-MODIFIED:20251226T153231Z
UID:114172-1773936000-1773939600@www.imsalud.gov.co
SUMMARY:EPM Gestión Financiera (Presupuesto)
DESCRIPTION:EPM Gestión Financiera (Presupuesto)
URL:https://www.imsalud.gov.co/web/event/epm-gestion-financiera-presupuesto/
LOCATION:Oficina de Presupuesto\, Sede Administrativa\, Cúcuta\, NS\, 540001\, Colombia
CATEGORIES:Equipo primario de mejoramiento
ORGANIZER;CN="Dalgy Brigitte Florez Acevedo":MAILTO:info@imsalud.gov.co
END:VEVENT
END:VCALENDAR