BEGIN:VCALENDAR
VERSION:2.0
PRODID:-//IMSALUD - ECPv6.15.20//NONSGML v1.0//EN
CALSCALE:GREGORIAN
METHOD:PUBLISH
X-WR-CALNAME:IMSALUD
X-ORIGINAL-URL:https://www.imsalud.gov.co/web
X-WR-CALDESC:Eventos para IMSALUD
REFRESH-INTERVAL;VALUE=DURATION:PT1H
X-Robots-Tag:noindex
X-PUBLISHED-TTL:PT1H
BEGIN:VTIMEZONE
TZID:America/Bogota
BEGIN:STANDARD
TZOFFSETFROM:-0500
TZOFFSETTO:-0500
TZNAME:-05
DTSTART:20250101T000000
END:STANDARD
END:VTIMEZONE
BEGIN:VEVENT
DTSTART;TZID=America/Bogota:20260313T070000
DTEND;TZID=America/Bogota:20260313T080000
DTSTAMP:20260423T154253
CREATED:20260128T124320Z
LAST-MODIFIED:20260128T124320Z
UID:114469-1773385200-1773388800@www.imsalud.gov.co
SUMMARY:EPM IPS San Luis
DESCRIPTION:EPM IPS San Luis
URL:https://www.imsalud.gov.co/web/event/epm-ips-san-luis-3/
LOCATION:Consultorio de PYP\, NdeS\, 540001\, Colombia
CATEGORIES:Equipo primario de mejoramiento
ORGANIZER;CN="Anyella Quintero Lemus":MAILTO:ublibertad@imsalud.gov.co
END:VEVENT
BEGIN:VEVENT
DTSTART;TZID=America/Bogota:20260313T083000
DTEND;TZID=America/Bogota:20260313T093000
DTSTAMP:20260423T154253
CREATED:20260128T124920Z
LAST-MODIFIED:20260128T124920Z
UID:114481-1773390600-1773394200@www.imsalud.gov.co
SUMMARY:EPM IPS San Mateo
DESCRIPTION:EPM IPS San Mateo
URL:https://www.imsalud.gov.co/web/event/epm-ips-san-mateo-3/
LOCATION:Consultorio de PYP\, NdeS\, 540001\, Colombia
CATEGORIES:Equipo primario de mejoramiento
ORGANIZER;CN="Anyella Quintero Lemus":MAILTO:ublibertad@imsalud.gov.co
END:VEVENT
BEGIN:VEVENT
DTSTART;TZID=America/Bogota:20260313T100000
DTEND;TZID=America/Bogota:20260313T110000
DTSTAMP:20260423T154253
CREATED:20260128T130842Z
LAST-MODIFIED:20260128T130842Z
UID:114711-1773396000-1773399600@www.imsalud.gov.co
SUMMARY:EPM IPS Belén
DESCRIPTION:EPM IPS Belén
URL:https://www.imsalud.gov.co/web/event/epm-ips-belen-3/
LOCATION:Consultorio de PYP\, NdeS\, 540001\, Colombia
CATEGORIES:Equipo primario de mejoramiento
ORGANIZER;CN="Yelitza Susana Acevedo Rojas":MAILTO:ublomadebolivar@imsalud.gov.co
END:VEVENT
BEGIN:VEVENT
DTSTART;TZID=America/Bogota:20260313T100000
DTEND;TZID=America/Bogota:20260313T110000
DTSTAMP:20260423T154253
CREATED:20260128T130852Z
LAST-MODIFIED:20260128T130852Z
UID:114723-1773396000-1773399600@www.imsalud.gov.co
SUMMARY:EPM IPS Cundinamarca
DESCRIPTION:EPM IPS Cundinamarca
URL:https://www.imsalud.gov.co/web/event/epm-ips-cundinamarca-3/
LOCATION:Consultorio de PYP\, NdeS\, 540001\, Colombia
CATEGORIES:Equipo primario de mejoramiento
ORGANIZER;CN="Yelitza Susana Acevedo Rojas":MAILTO:ublomadebolivar@imsalud.gov.co
END:VEVENT
BEGIN:VEVENT
DTSTART;TZID=America/Bogota:20260313T100000
DTEND;TZID=America/Bogota:20260313T110000
DTSTAMP:20260423T154253
CREATED:20260128T130903Z
LAST-MODIFIED:20260128T130903Z
UID:114735-1773396000-1773399600@www.imsalud.gov.co
SUMMARY:EPM IPS El Rodeo
DESCRIPTION:EPM IPS El Rodeo
URL:https://www.imsalud.gov.co/web/event/epm-ips-el-rodeo-3/
LOCATION:Consultorio de PYP\, NdeS\, 540001\, Colombia
CATEGORIES:Equipo primario de mejoramiento
ORGANIZER;CN="Yelitza Susana Acevedo Rojas":MAILTO:ublomadebolivar@imsalud.gov.co
END:VEVENT
BEGIN:VEVENT
DTSTART;TZID=America/Bogota:20260313T100000
DTEND;TZID=America/Bogota:20260313T110000
DTSTAMP:20260423T154253
CREATED:20260128T130916Z
LAST-MODIFIED:20260128T130916Z
UID:114747-1773396000-1773399600@www.imsalud.gov.co
SUMMARY:EPM IPS Divina Pastora
DESCRIPTION:EPM IPS Divina Pastora
URL:https://www.imsalud.gov.co/web/event/epm-ips-divina-pastora-3/
LOCATION:Consultorio de PYP\, NdeS\, 540001\, Colombia
CATEGORIES:Equipo primario de mejoramiento
ORGANIZER;CN="Yelitza Susana Acevedo Rojas":MAILTO:ublomadebolivar@imsalud.gov.co
END:VEVENT
BEGIN:VEVENT
DTSTART;TZID=America/Bogota:20260313T170000
DTEND;TZID=America/Bogota:20260313T180000
DTSTAMP:20260423T154253
CREATED:20260128T124303Z
LAST-MODIFIED:20260128T124303Z
UID:114457-1773421200-1773424800@www.imsalud.gov.co
SUMMARY:EPM UBA La Libertad
DESCRIPTION:EPM UBA La Libertad
URL:https://www.imsalud.gov.co/web/event/epm-uba-la-libertad-3/
LOCATION:Consultorio de PYP\, NdeS\, 540001\, Colombia
CATEGORIES:Equipo primario de mejoramiento
ORGANIZER;CN="Anyella Quintero Lemus":MAILTO:ublibertad@imsalud.gov.co
END:VEVENT
END:VCALENDAR