BEGIN:VCALENDAR
VERSION:2.0
PRODID:-//IMSALUD - ECPv6.15.20//NONSGML v1.0//EN
CALSCALE:GREGORIAN
METHOD:PUBLISH
X-ORIGINAL-URL:https://www.imsalud.gov.co/web
X-WR-CALDESC:Eventos para IMSALUD
REFRESH-INTERVAL;VALUE=DURATION:PT1H
X-Robots-Tag:noindex
X-PUBLISHED-TTL:PT1H
BEGIN:VTIMEZONE
TZID:America/Bogota
BEGIN:STANDARD
TZOFFSETFROM:-0500
TZOFFSETTO:-0500
TZNAME:-05
DTSTART:20250101T000000
END:STANDARD
END:VTIMEZONE
BEGIN:VEVENT
DTSTART;TZID=America/Bogota:20260130T073000
DTEND;TZID=America/Bogota:20260130T115000
DTSTAMP:20260423T173817
CREATED:20251216T204556Z
LAST-MODIFIED:20251216T204556Z
UID:113726-1769758200-1769773800@www.imsalud.gov.co
SUMMARY:Comité de Historias Clinicas
DESCRIPTION:Comité mes de Enero
URL:https://www.imsalud.gov.co/web/event/comite-de-historias-clinicas-7/
LOCATION:Auditorio Tercer Piso\, Sede Administrativa\, Cúcuta\, NS\, 540001\, Colombia
CATEGORIES:Comités
ORGANIZER;CN="Vahan Suren Aboudjian Santos":MAILTO:info@imsalud.gov.co
END:VEVENT
BEGIN:VEVENT
DTSTART;TZID=America/Bogota:20260130T163000
DTEND;TZID=America/Bogota:20260130T173000
DTSTAMP:20260423T173817
CREATED:20251216T205455Z
LAST-MODIFIED:20251216T205455Z
UID:113926-1769790600-1769794200@www.imsalud.gov.co
SUMMARY:Comité Etica Hospitalaria
DESCRIPTION:Comité mes de Enero
URL:https://www.imsalud.gov.co/web/event/comite-etica-hospitalaria-7/
LOCATION:Auditorio Tercer Piso\, Sede Administrativa\, Cúcuta\, NS\, 540001\, Colombia
CATEGORIES:Comités
ORGANIZER;CN="Vahan Suren Aboudjian Santos":MAILTO:info@imsalud.gov.co
END:VEVENT
END:VCALENDAR