BEGIN:VCALENDAR
VERSION:2.0
PRODID:-//IMSALUD - ECPv6.15.20//NONSGML v1.0//EN
CALSCALE:GREGORIAN
METHOD:PUBLISH
X-WR-CALNAME:IMSALUD
X-ORIGINAL-URL:https://www.imsalud.gov.co/web
X-WR-CALDESC:Eventos para IMSALUD
REFRESH-INTERVAL;VALUE=DURATION:PT1H
X-Robots-Tag:noindex
X-PUBLISHED-TTL:PT1H
BEGIN:VTIMEZONE
TZID:America/Bogota
BEGIN:STANDARD
TZOFFSETFROM:-0500
TZOFFSETTO:-0500
TZNAME:-05
DTSTART:20250101T000000
END:STANDARD
END:VTIMEZONE
BEGIN:VEVENT
DTSTART;TZID=America/Bogota:20260129T150000
DTEND;TZID=America/Bogota:20260129T170000
DTSTAMP:20260423T173339
CREATED:20251226T151754Z
LAST-MODIFIED:20251226T151754Z
UID:114118-1769698800-1769706000@www.imsalud.gov.co
SUMMARY:EPM Gerencia de Ambiente Fisico
DESCRIPTION:EPM Gerencia de Ambiente Fisico
URL:https://www.imsalud.gov.co/web/event/epm-gerencia-de-ambiente-fisico/
LOCATION:Auditorio Tercer Piso\, Sede Administrativa\, Cúcuta\, NS\, 540001\, Colombia
CATEGORIES:Equipo primario de mejoramiento
ORGANIZER;CN="Martha Lucia Burbano Rodriguez":MAILTO:info@imsalud.gov.co
END:VEVENT
BEGIN:VEVENT
DTSTART;TZID=America/Bogota:20260129T150000
DTEND;TZID=America/Bogota:20260129T170000
DTSTAMP:20260423T173339
CREATED:20251226T152433Z
LAST-MODIFIED:20251226T152433Z
UID:114142-1769698800-1769706000@www.imsalud.gov.co
SUMMARY:EPM Gestion de Contratacion
DESCRIPTION:EPM Gestion de Contratacion
URL:https://www.imsalud.gov.co/web/event/epm-gestion-de-contratacion/
LOCATION:Auditorio Tercer Piso\, Sede Administrativa\, Cúcuta\, NS\, 540001\, Colombia
CATEGORIES:Equipo primario de mejoramiento
ORGANIZER;CN="Martha Lucia Burbano Rodriguez":MAILTO:info@imsalud.gov.co
END:VEVENT
END:VCALENDAR