BEGIN:VCALENDAR
VERSION:2.0
PRODID:-//IMSALUD - ECPv6.15.20//NONSGML v1.0//EN
CALSCALE:GREGORIAN
METHOD:PUBLISH
X-WR-CALNAME:IMSALUD
X-ORIGINAL-URL:https://www.imsalud.gov.co/web
X-WR-CALDESC:Eventos para IMSALUD
REFRESH-INTERVAL;VALUE=DURATION:PT1H
X-Robots-Tag:noindex
X-PUBLISHED-TTL:PT1H
BEGIN:VTIMEZONE
TZID:America/Bogota
BEGIN:STANDARD
TZOFFSETFROM:-0500
TZOFFSETTO:-0500
TZNAME:-05
DTSTART:20250101T000000
END:STANDARD
END:VTIMEZONE
BEGIN:VEVENT
DTSTART;TZID=America/Bogota:20260128T100000
DTEND;TZID=America/Bogota:20260128T115500
DTSTAMP:20260423T173339
CREATED:20251216T205041Z
LAST-MODIFIED:20251216T205041Z
UID:113834-1769594400-1769601300@www.imsalud.gov.co
SUMMARY:Comité de Conciliaciones
DESCRIPTION:Comité mes de Enero
URL:https://www.imsalud.gov.co/web/event/comite-de-conciliaciones-22/
LOCATION:Gerencia\, Sede Administrativa\, Cúcuta\, NS\, 540001\, Colombia
CATEGORIES:Comités
ORGANIZER;CN="Javier Orlando Prieto Pe%C3%B1a":MAILTO:info@imsalud.gov.co
END:VEVENT
BEGIN:VEVENT
DTSTART;TZID=America/Bogota:20260128T160000
DTEND;TZID=America/Bogota:20260128T170000
DTSTAMP:20260423T173339
CREATED:20251216T205344Z
LAST-MODIFIED:20251216T205344Z
UID:113904-1769616000-1769619600@www.imsalud.gov.co
SUMMARY:Comité COPASST
DESCRIPTION:Comité mes de enero
URL:https://www.imsalud.gov.co/web/event/comite-copasst-9/
LOCATION:Virtual\, Sede Administrativa\, Cúcuta\, NS\, 540001\, Colombia
CATEGORIES:Comités
ORGANIZER;CN="Dalgy Brigitte Florez Acevedo":MAILTO:info@imsalud.gov.co
END:VEVENT
BEGIN:VEVENT
DTSTART;TZID=America/Bogota:20260128T160000
DTEND;TZID=America/Bogota:20260128T170000
DTSTAMP:20260423T173339
CREATED:20251226T153529Z
LAST-MODIFIED:20251226T153529Z
UID:114190-1769616000-1769619600@www.imsalud.gov.co
SUMMARY:EPM SIAU
DESCRIPTION:EPM SIAU
URL:https://www.imsalud.gov.co/web/event/epm-siau/
LOCATION:Auditorio Tercer Piso\, Sede Administrativa\, Cúcuta\, NS\, 540001\, Colombia
CATEGORIES:Equipo primario de mejoramiento
END:VEVENT
END:VCALENDAR