BEGIN:VCALENDAR
VERSION:2.0
PRODID:-//IMSALUD - ECPv6.15.20//NONSGML v1.0//EN
CALSCALE:GREGORIAN
METHOD:PUBLISH
X-WR-CALNAME:IMSALUD
X-ORIGINAL-URL:https://www.imsalud.gov.co/web
X-WR-CALDESC:Eventos para IMSALUD
REFRESH-INTERVAL;VALUE=DURATION:PT1H
X-Robots-Tag:noindex
X-PUBLISHED-TTL:PT1H
BEGIN:VTIMEZONE
TZID:America/Bogota
BEGIN:STANDARD
TZOFFSETFROM:-0500
TZOFFSETTO:-0500
TZNAME:-05
DTSTART:20250101T000000
END:STANDARD
END:VTIMEZONE
BEGIN:VEVENT
DTSTART;TZID=America/Bogota:20260123T090000
DTEND;TZID=America/Bogota:20260123T100000
DTSTAMP:20260424T001726
CREATED:20251226T154018Z
LAST-MODIFIED:20251226T154018Z
UID:114202-1769158800-1769162400@www.imsalud.gov.co
SUMMARY:EPM Talento Humano
DESCRIPTION:EPM Talento Humano
URL:https://www.imsalud.gov.co/web/event/epm-talento-humano/
LOCATION:Auditorio Tercer Piso\, Sede Administrativa\, Cúcuta\, NS\, 540001\, Colombia
CATEGORIES:Equipo primario de mejoramiento
ORGANIZER;CN="Andrea Juliana Porras Nava":MAILTO:info@imsalud.gov.co
END:VEVENT
BEGIN:VEVENT
DTSTART;TZID=America/Bogota:20260123T110000
DTEND;TZID=America/Bogota:20260123T110000
DTSTAMP:20260424T001726
CREATED:20260128T130954Z
LAST-MODIFIED:20260128T130954Z
UID:114805-1769166000-1769166000@www.imsalud.gov.co
SUMMARY:EPM IPS El Salado
DESCRIPTION:EPM IPS El Salado
URL:https://www.imsalud.gov.co/web/event/epm-ips-el-salado/
LOCATION:Consultorio de PYP\, NdeS\, 540001\, Colombia
CATEGORIES:Equipo primario de mejoramiento
ORGANIZER;CN="Sandra Johana Velez Gonzalez":MAILTO:ubpuentebarcoleones@imsalud.gov.co
END:VEVENT
END:VCALENDAR