BEGIN:VCALENDAR
VERSION:2.0
PRODID:-//IMSALUD - ECPv6.15.20//NONSGML v1.0//EN
CALSCALE:GREGORIAN
METHOD:PUBLISH
X-ORIGINAL-URL:https://www.imsalud.gov.co/web
X-WR-CALDESC:Eventos para IMSALUD
REFRESH-INTERVAL;VALUE=DURATION:PT1H
X-Robots-Tag:noindex
X-PUBLISHED-TTL:PT1H
BEGIN:VTIMEZONE
TZID:America/Bogota
BEGIN:STANDARD
TZOFFSETFROM:-0500
TZOFFSETTO:-0500
TZNAME:-05
DTSTART:20250101T000000
END:STANDARD
END:VTIMEZONE
BEGIN:VEVENT
DTSTART;TZID=America/Bogota:20260121T080000
DTEND;TZID=America/Bogota:20260121T100000
DTSTAMP:20260424T034312
CREATED:20251226T151323Z
LAST-MODIFIED:20251226T151323Z
UID:114094-1768982400-1768989600@www.imsalud.gov.co
SUMMARY:EPM Atencion Diagnostica y Complementacion Terapeutica
DESCRIPTION:EPM Atencion Diagnostica y Complementacion Terapeutica
URL:https://www.imsalud.gov.co/web/event/epm-atencion-diagnostica-y-complementacion-terapeutica/
LOCATION:Oficina de Farmacia\, Sede Administrativa\, Cúcuta\, NS\, 540001\, Colombia
CATEGORIES:Equipo primario de mejoramiento
END:VEVENT
BEGIN:VEVENT
DTSTART;TZID=America/Bogota:20260121T100000
DTEND;TZID=America/Bogota:20260121T110000
DTSTAMP:20260424T034312
CREATED:20260128T130924Z
LAST-MODIFIED:20260128T130924Z
UID:114757-1768989600-1768993200@www.imsalud.gov.co
SUMMARY:EPM UBA Puente Barco Leones
DESCRIPTION:EPM UBA Puente Barco Leones
URL:https://www.imsalud.gov.co/web/event/epm-uba-puente-barco-leones/
LOCATION:Consultorio de PYP\, NdeS\, 540001\, Colombia
CATEGORIES:Equipo primario de mejoramiento
ORGANIZER;CN="Sandra Johana Velez Gonzalez":MAILTO:ubpuentebarcoleones@imsalud.gov.co
END:VEVENT
BEGIN:VEVENT
DTSTART;TZID=America/Bogota:20260121T100000
DTEND;TZID=America/Bogota:20260121T110000
DTSTAMP:20260424T034312
CREATED:20260303T113331Z
LAST-MODIFIED:20260303T113713Z
UID:115376-1768989600-1768993200@www.imsalud.gov.co
SUMMARY:EPM TIC
DESCRIPTION:EPM TIC Enero
URL:https://www.imsalud.gov.co/web/event/epm-tic-2/
LOCATION:Virtual\, Sede Administrativa\, Cúcuta\, NS\, 540001\, Colombia
CATEGORIES:Equipo primario de mejoramiento
ORGANIZER;CN="Lucas Augusto Liendo Romero":MAILTO:info@imsalud.gov.co
END:VEVENT
BEGIN:VEVENT
DTSTART;TZID=America/Bogota:20260121T103000
DTEND;TZID=America/Bogota:20260121T110000
DTSTAMP:20260424T034312
CREATED:20251216T205132Z
LAST-MODIFIED:20251216T205132Z
UID:113850-1768991400-1768993200@www.imsalud.gov.co
SUMMARY:Grupo de Gobierno Digital
DESCRIPTION:Grupo de Trabajo
URL:https://www.imsalud.gov.co/web/event/grupo-de-gobierno-digital-2/
LOCATION:Virtual\, Sede Administrativa\, Cúcuta\, NS\, 540001\, Colombia
CATEGORIES:Grupo de Trabajo
ORGANIZER;CN="Lucas Augusto Liendo Romero":MAILTO:info@imsalud.gov.co
END:VEVENT
END:VCALENDAR